BEGIN:VCALENDAR
VERSION:2.0
PRODID:-//Wild Intrigue - ECPv6.15.13.1//NONSGML v1.0//EN
CALSCALE:GREGORIAN
METHOD:PUBLISH
X-WR-CALNAME:Wild Intrigue
X-ORIGINAL-URL:https://www.wildintrigue.co.uk
X-WR-CALDESC:Events for Wild Intrigue
REFRESH-INTERVAL;VALUE=DURATION:PT1H
X-Robots-Tag:noindex
X-PUBLISHED-TTL:PT1H
BEGIN:VTIMEZONE
TZID:Europe/London
BEGIN:DAYLIGHT
TZOFFSETFROM:+0000
TZOFFSETTO:+0100
TZNAME:BST
DTSTART:20250330T010000
END:DAYLIGHT
BEGIN:STANDARD
TZOFFSETFROM:+0100
TZOFFSETTO:+0000
TZNAME:GMT
DTSTART:20251026T010000
END:STANDARD
BEGIN:DAYLIGHT
TZOFFSETFROM:+0000
TZOFFSETTO:+0100
TZNAME:BST
DTSTART:20260329T010000
END:DAYLIGHT
BEGIN:STANDARD
TZOFFSETFROM:+0100
TZOFFSETTO:+0000
TZNAME:GMT
DTSTART:20261025T010000
END:STANDARD
BEGIN:DAYLIGHT
TZOFFSETFROM:+0000
TZOFFSETTO:+0100
TZNAME:BST
DTSTART:20270328T010000
END:DAYLIGHT
BEGIN:STANDARD
TZOFFSETFROM:+0100
TZOFFSETTO:+0000
TZNAME:GMT
DTSTART:20271031T010000
END:STANDARD
END:VTIMEZONE
BEGIN:VEVENT
DTSTART;TZID=Europe/London:20260424T202000
DTEND;TZID=Europe/London:20260424T213000
DTSTAMP:20260421T173039
CREATED:20251123T192310Z
LAST-MODIFIED:20251123T192408Z
UID:1560001313-1777062000-1777066200@www.wildintrigue.co.uk
SUMMARY:Ouseburn Bat Safari
DESCRIPTION:Discover Ouseburn’s nocturnal neighbours\n\nJoin Wild Intrigue on an urban wildlife safari to discover the intriguing nocturnal wildlife of Newcastle-upon-Tyne’s lush Ouseburn Valley. \n\n\n\nSetting off at sunset with bat detectors in hand\, Wild Intrigue will guide you on a journey to track bats down as they emerge from their roosts for ‘breakfast’. Bat detectors bring a whole new level to spying on these elusive mammals\, allowing you to eavesdrop on their ultrasound clicks\, slaps and pops as they hunt and communicate with each other. \n\n\n\nThese amazing mammals have cruised our skies for tens of millions of years – way before the first humans took their first steps. Join us to find out all about the bizarre anatomy and curious ecology of some of our longest-evolved mammals\, right here in the city. \n\n\n\n100% of Ouseburn Bat Safari ticket sales go directly into community rewilding project Wild Ouseburn\, to help better understand and protect bats in the Lower Ouseburn Valley. \n\n\n\nThere are plenty of wild encounters to enjoy in northern England\, explore our full collection here.
URL:https://www.wildintrigue.co.uk/event/ouseburn-bat-safari-16/
LOCATION:Ouseburn\, Spiller's Car Park\, Newcastle upon Tyne\, NE6 1AP\, United Kingdom
CATEGORIES:Great for Families,Ouseburn,Ouseburn Bat Safari
ATTACH;FMTTYPE=image/jpeg:https://www.wildintrigue.co.uk/wp-content/uploads/2025/11/Ouseburn-bat-safari_web.jpg
END:VEVENT
BEGIN:VEVENT
DTSTART;TZID=Europe/London:20260426T044500
DTEND;TZID=Europe/London:20260426T061500
DTSTAMP:20260421T173039
CREATED:20251123T194820Z
LAST-MODIFIED:20260415T114523Z
UID:1560001320-1777178700-1777184100@www.wildintrigue.co.uk
SUMMARY:Dawn Chorus Disco
DESCRIPTION:An immersive\, urban wildlife experience\n\nMixing nature’s dawn orchestra with silent disco tecMixing nature’s dawn orchestra with silent disco tech\, this popular experience is a celebration of the spectacular spring Dawn Chorus. \n\n\n\nThe Dawn Chorus is one of spring’s most stunning acoustic spectacles\, each bird becomes a musician contributing to an incredible orchestral masterpiece. Wild Intrigue’s Dawn Chorus Disco is an opportunity to become immersed in the heart of the live Ouseburn orchestra\, and to appreciate each of the individual songsters taking part.  \n\n\n\nUsing a single parabolic dish\, your Wild Intrigue Guide will take you on an acoustic safari like no other\, bringing the incredible intricacies of each birdsong straight to your ears through wireless headphones as you slowly water through the valley at sunrise. In isolation from the rest of the Dawn Chorus\, every one of the 64 notes in a Wren’s song will pop\, the repertoire of the Song Thrush will become even brighter\, and the aria of the Blackcap will be distinguished from its scratchy beginnings.  \n\n\n\nThe real magic of this wildlife experience is that it takes place in the heart of Newcastle-upon-Tyne\, in the wild corridors of the post-industrial culture-hotspot of Ouseburn Valley.  Parabolic dishes bring bird calls  10 x closer to your ears\, and will cancel out background noise for an immersive\, clear acoustic experience in central Newcastle. Each attendee can enjoy a shared group experience in meeting the musicians with the unique combination of technology we bring to this experience. \n\n\n\nWith your Wild Intrigue Guide curating the entire acoustic safari\, you will be introduced to the birds making each call\, discovering the names and intriguing behaviours of each musician in Ouseburn’s urban dawn chorus. \n\n\n\n100% of Dawn Chorus Disco ticket sales go directly into the Wild Ouseburn community rewilding project\, to help understand and improve the Lower Ouseburn Valley for our urban birds. \n\n\n\nThere are heaps of wild encounters to enjoy in northern England\, explore them here.
URL:https://www.wildintrigue.co.uk/event/dawn-chorus-disco-12/
LOCATION:Ouseburn\, Spiller's Car Park\, Newcastle upon Tyne\, NE6 1AP\, United Kingdom
CATEGORIES:Dawn Chorus Disco,Ouseburn
ATTACH;FMTTYPE=image/jpeg:https://www.wildintrigue.co.uk/wp-content/uploads/2025/11/Dawn-Chorus-Disco_Ouseburn_web.jpg
END:VEVENT
BEGIN:VEVENT
DTSTART;TZID=Europe/London:20260503T043000
DTEND;TZID=Europe/London:20260503T060000
DTSTAMP:20260421T173039
CREATED:20251123T195003Z
LAST-MODIFIED:20251123T195024Z
UID:1560001321-1777782600-1777788000@www.wildintrigue.co.uk
SUMMARY:Dawn Chorus Disco
DESCRIPTION:An immersive\, urban wildlife experience\n\nJoin us for International Dawn Chorus Day! \n\n\n\nMixing nature’s dawn orchestra with silent disco tech\, this popular experience is a celebration of the spectacular spring Dawn Chorus. \n\n\n\nThe Dawn Chorus is one of spring’s most stunning acoustic spectacles\, each bird becomes a musician contributing to an incredible orchestral masterpiece. Wild Intrigue’s Dawn Chorus Disco is an opportunity to become immersed in the heart of the live Ouseburn orchestra\, and to appreciate each of the individual songsters taking part.  \n\n\n\nUsing a single parabolic dish\, your Wild Intrigue Guide will take you on an acoustic safari like no other\, bringing the incredible intricacies of each birdsong straight to your ears through wireless headphones as you slowly water through the valley at sunrise. In isolation from the rest of the Dawn Chorus\, every one of the 64 notes in a Wren’s song will pop\, the repertoire of the Song Thrush will become even brighter\, and the aria of the Blackcap will be distinguished from its scratchy beginnings.  \n\n\n\nThe real magic of this wildlife experience is that it takes place in the heart of Newcastle-upon-Tyne\, in the wild corridors of the post-industrial culture-hotspot of Ouseburn Valley.  Parabolic dishes bring bird calls  10 x closer to your ears\, and will cancel out background noise for an immersive\, clear acoustic experience in central Newcastle. Each attendee can enjoy a shared group experience in meeting the musicians with the unique combination of technology we bring to this experience. \n\n\n\nWith your Wild Intrigue Guide curating the entire acoustic safari\, you will be introduced to the birds making each call\, discovering the names and intriguing behaviours of each musician in Ouseburn’s urban dawn chorus. \n\n\n\n100% of Dawn Chorus Disco ticket sales go directly into the Wild Ouseburn community rewilding project\, to help understand and improve the Lower Ouseburn Valley for our urban birds. \n\n\n\nThere are heaps of wild encounters to enjoy in northern England\, explore them here.
URL:https://www.wildintrigue.co.uk/event/dawn-chorus-disco-13/
LOCATION:Ouseburn\, Spiller's Car Park\, Newcastle upon Tyne\, NE6 1AP\, United Kingdom
CATEGORIES:Dawn Chorus Disco,Ouseburn
ATTACH;FMTTYPE=image/jpeg:https://www.wildintrigue.co.uk/wp-content/uploads/2025/11/Dawn-Chorus-Disco_Ouseburn_web.jpg
END:VEVENT
BEGIN:VEVENT
DTSTART;TZID=Europe/London:20260529T212000
DTEND;TZID=Europe/London:20260529T223000
DTSTAMP:20260421T173039
CREATED:20251123T192556Z
LAST-MODIFIED:20251123T192557Z
UID:1560001314-1780089600-1780093800@www.wildintrigue.co.uk
SUMMARY:Ouseburn Bat Safari
DESCRIPTION:Discover Ouseburn’s nocturnal neighbours\n\nJoin Wild Intrigue on an urban wildlife safari to discover the intriguing nocturnal wildlife of Newcastle-upon-Tyne’s lush Ouseburn Valley. \n\n\n\nSetting off at sunset with bat detectors in hand\, Wild Intrigue will guide you on a journey to track bats down as they emerge from their roosts for ‘breakfast’. Bat detectors bring a whole new level to spying on these elusive mammals\, allowing you to eavesdrop on their ultrasound clicks\, slaps and pops as they hunt and communicate with each other. \n\n\n\nThese amazing mammals have cruised our skies for tens of millions of years – way before the first humans took their first steps. Join us to find out all about the bizarre anatomy and curious ecology of some of our longest-evolved mammals\, right here in the city. \n\n\n\n100% of Ouseburn Bat Safari ticket sales go directly into community rewilding project Wild Ouseburn\, to help better understand and protect bats in the Lower Ouseburn Valley. \n\n\n\nThere are plenty of wild encounters to enjoy in northern England\, explore our full collection here.
URL:https://www.wildintrigue.co.uk/event/ouseburn-bat-safari-17/
LOCATION:Ouseburn\, Spiller's Car Park\, Newcastle upon Tyne\, NE6 1AP\, United Kingdom
CATEGORIES:Great for Families,Ouseburn,Ouseburn Bat Safari
ATTACH;FMTTYPE=image/jpeg:https://www.wildintrigue.co.uk/wp-content/uploads/2025/11/Ouseburn-bat-safari_web.jpg
END:VEVENT
BEGIN:VEVENT
DTSTART;TZID=Europe/London:20260626T214000
DTEND;TZID=Europe/London:20260626T225000
DTSTAMP:20260421T173039
CREATED:20251123T192742Z
LAST-MODIFIED:20251123T192744Z
UID:1560001315-1782510000-1782514200@www.wildintrigue.co.uk
SUMMARY:Ouseburn Bat Safari
DESCRIPTION:Discover Ouseburn’s nocturnal neighbours\n\nJoin Wild Intrigue on an urban wildlife safari to discover the intriguing nocturnal wildlife of Newcastle-upon-Tyne’s lush Ouseburn Valley. \n\n\n\nSetting off at sunset with bat detectors in hand\, Wild Intrigue will guide you on a journey to track bats down as they emerge from their roosts for ‘breakfast’. Bat detectors bring a whole new level to spying on these elusive mammals\, allowing you to eavesdrop on their ultrasound clicks\, slaps and pops as they hunt and communicate with each other. \n\n\n\nThese amazing mammals have cruised our skies for tens of millions of years – way before the first humans took their first steps. Join us to find out all about the bizarre anatomy and curious ecology of some of our longest-evolved mammals\, right here in the city. \n\n\n\n100% of Ouseburn Bat Safari ticket sales go directly into community rewilding project Wild Ouseburn\, to help better understand and protect bats in the Lower Ouseburn Valley. \n\n\n\nThere are plenty of wild encounters to enjoy in northern England\, explore our full collection here.
URL:https://www.wildintrigue.co.uk/event/ouseburn-bat-safari-18/
LOCATION:Ouseburn\, Spiller's Car Park\, Newcastle upon Tyne\, NE6 1AP\, United Kingdom
CATEGORIES:Great for Families,Ouseburn,Ouseburn Bat Safari
ATTACH;FMTTYPE=image/jpeg:https://www.wildintrigue.co.uk/wp-content/uploads/2025/11/Ouseburn-bat-safari_web.jpg
END:VEVENT
BEGIN:VEVENT
DTSTART;TZID=Europe/London:20260731T210000
DTEND;TZID=Europe/London:20260731T220000
DTSTAMP:20260421T173039
CREATED:20251123T192905Z
LAST-MODIFIED:20251123T192907Z
UID:1560001316-1785531600-1785535200@www.wildintrigue.co.uk
SUMMARY:Ouseburn Bat Safari
DESCRIPTION:Discover Ouseburn’s nocturnal neighbours\n\nJoin Wild Intrigue on an urban wildlife safari to discover the intriguing nocturnal wildlife of Newcastle-upon-Tyne’s lush Ouseburn Valley. \n\n\n\nSetting off at sunset with bat detectors in hand\, Wild Intrigue will guide you on a journey to track bats down as they emerge from their roosts for ‘breakfast’. Bat detectors bring a whole new level to spying on these elusive mammals\, allowing you to eavesdrop on their ultrasound clicks\, slaps and pops as they hunt and communicate with each other. \n\n\n\nThese amazing mammals have cruised our skies for tens of millions of years – way before the first humans took their first steps. Join us to find out all about the bizarre anatomy and curious ecology of some of our longest-evolved mammals\, right here in the city. \n\n\n\n100% of Ouseburn Bat Safari ticket sales go directly into community rewilding project Wild Ouseburn\, to help better understand and protect bats in the Lower Ouseburn Valley. \n\n\n\nThere are plenty of wild encounters to enjoy in northern England\, explore our full collection here.
URL:https://www.wildintrigue.co.uk/event/ouseburn-bat-safari-19/
LOCATION:Ouseburn\, Spiller's Car Park\, Newcastle upon Tyne\, NE6 1AP\, United Kingdom
CATEGORIES:Great for Families,Ouseburn,Ouseburn Bat Safari
ATTACH;FMTTYPE=image/jpeg:https://www.wildintrigue.co.uk/wp-content/uploads/2025/11/Ouseburn-bat-safari_web.jpg
END:VEVENT
BEGIN:VEVENT
DTSTART;TZID=Europe/London:20260828T200000
DTEND;TZID=Europe/London:20260828T211000
DTSTAMP:20260421T173039
CREATED:20251123T193044Z
LAST-MODIFIED:20251123T193045Z
UID:1560001317-1787947200-1787951400@www.wildintrigue.co.uk
SUMMARY:Ouseburn Bat Safari
DESCRIPTION:Discover Ouseburn’s nocturnal neighbours\n\nJoin Wild Intrigue on an urban wildlife safari to discover the intriguing nocturnal wildlife of Newcastle-upon-Tyne’s lush Ouseburn Valley. \n\n\n\nSetting off at sunset with bat detectors in hand\, Wild Intrigue will guide you on a journey to track bats down as they emerge from their roosts for ‘breakfast’. Bat detectors bring a whole new level to spying on these elusive mammals\, allowing you to eavesdrop on their ultrasound clicks\, slaps and pops as they hunt and communicate with each other. \n\n\n\nThese amazing mammals have cruised our skies for tens of millions of years – way before the first humans took their first steps. Join us to find out all about the bizarre anatomy and curious ecology of some of our longest-evolved mammals\, right here in the city. \n\n\n\n100% of Ouseburn Bat Safari ticket sales go directly into community rewilding project Wild Ouseburn\, to help better understand and protect bats in the Lower Ouseburn Valley. \n\n\n\nThere are plenty of wild encounters to enjoy in northern England\, explore our full collection here.
URL:https://www.wildintrigue.co.uk/event/ouseburn-bat-safari-20/
LOCATION:Ouseburn\, Spiller's Car Park\, Newcastle upon Tyne\, NE6 1AP\, United Kingdom
CATEGORIES:Great for Families,Ouseburn,Ouseburn Bat Safari
ATTACH;FMTTYPE=image/jpeg:https://www.wildintrigue.co.uk/wp-content/uploads/2025/11/Ouseburn-bat-safari_web.jpg
END:VEVENT
END:VCALENDAR