BEGIN:VCALENDAR
VERSION:2.0
PRODID:-//Wild Intrigue - ECPv6.15.13.1//NONSGML v1.0//EN
CALSCALE:GREGORIAN
METHOD:PUBLISH
X-ORIGINAL-URL:https://www.wildintrigue.co.uk
X-WR-CALDESC:Events for Wild Intrigue
REFRESH-INTERVAL;VALUE=DURATION:PT1H
X-Robots-Tag:noindex
X-PUBLISHED-TTL:PT1H
BEGIN:VTIMEZONE
TZID:Europe/London
BEGIN:DAYLIGHT
TZOFFSETFROM:+0000
TZOFFSETTO:+0100
TZNAME:BST
DTSTART:20220327T010000
END:DAYLIGHT
BEGIN:STANDARD
TZOFFSETFROM:+0100
TZOFFSETTO:+0000
TZNAME:GMT
DTSTART:20221030T010000
END:STANDARD
BEGIN:DAYLIGHT
TZOFFSETFROM:+0000
TZOFFSETTO:+0100
TZNAME:BST
DTSTART:20230326T010000
END:DAYLIGHT
BEGIN:STANDARD
TZOFFSETFROM:+0100
TZOFFSETTO:+0000
TZNAME:GMT
DTSTART:20231029T010000
END:STANDARD
BEGIN:DAYLIGHT
TZOFFSETFROM:+0000
TZOFFSETTO:+0100
TZNAME:BST
DTSTART:20240331T010000
END:DAYLIGHT
BEGIN:STANDARD
TZOFFSETFROM:+0100
TZOFFSETTO:+0000
TZNAME:GMT
DTSTART:20241027T010000
END:STANDARD
END:VTIMEZONE
BEGIN:VEVENT
DTSTART;TZID=Europe/London:20230902T153000
DTEND;TZID=Europe/London:20230902T163000
DTSTAMP:20260423T124251
CREATED:20230509T220233Z
LAST-MODIFIED:20230509T220235Z
UID:1560000551-1693668600-1693672200@www.wildintrigue.co.uk
SUMMARY:Kielder Nature Rangers
DESCRIPTION:Nature discovery for all the family!\n\n\n\nKids (and their grown ups!) are invited to join Wild Intrigue to discover the wonderful wild side of Kielder. \n\n\n\nThe natural world is bursting with life in summer\, from birds and beasts to berries and bugs! Come along to Tower Knowe\, at Kielder Water and Forest Park\, for a mini walking safari to explore the sights\, sounds and smells of the season.  \n\n\n\nYoung Nature Rangers will learn expert tips on identifying birds from their songs\, how to find insects hidden from sight\, and many more intriguing ways to explore Kielder’s wonderful wildlife.  \n\n\n\nA certificate will be awarded to young Nature Rangers at the end! \n\n\n\nTICKETS Children £15 | Adults £5 \n\n\n\nMost suited to children aged 6 – 12\, but all ages welcome. Children must be accompanied by an adult ticket holder. \n\n\n\nPre-booking essential. Please note that you will be redirected to Kielder Waterside’s ticket booking system. If you have any questions about Kielder Nature Rangers\, feel free to get in touch at info@wildintrigue \n\n\n\nBOOK NOW
URL:https://www.wildintrigue.co.uk/event/kielder-nature-rangers-14/
LOCATION:Tower Knowe\, Tower Knowe Visitor Centre\, Falstone\, Hexham\, NE48 1BX\, United Kingdom
CATEGORIES:Kielder,Kielder Nature Rangers
ATTACH;FMTTYPE=image/jpeg:https://www.wildintrigue.co.uk/wp-content/uploads/2023/05/Kielder-Nature-Rangers_Wild-Intrigue.jpg
END:VEVENT
BEGIN:VEVENT
DTSTART;TZID=Europe/London:20230830T153000
DTEND;TZID=Europe/London:20230830T163000
DTSTAMP:20260423T124251
CREATED:20230509T215915Z
LAST-MODIFIED:20230509T215917Z
UID:1560000550-1693409400-1693413000@www.wildintrigue.co.uk
SUMMARY:Kielder Nature Rangers
DESCRIPTION:Nature discovery for all the family!\n\n\n\nKids (and their grown ups!) are invited to join Wild Intrigue to discover the wonderful wild side of Kielder. \n\n\n\nThe natural world is bursting with life in summer\, from birds and beasts to berries and bugs! Come along to Tower Knowe\, at Kielder Water and Forest Park\, for a mini walking safari to explore the sights\, sounds and smells of the season.  \n\n\n\nYoung Nature Rangers will learn expert tips on identifying birds from their songs\, how to find insects hidden from sight\, and many more intriguing ways to explore Kielder’s wonderful wildlife.  \n\n\n\nA certificate will be awarded to young Nature Rangers at the end! \n\n\n\nTICKETS Children £15 | Adults £5 \n\n\n\nMost suited to children aged 6 – 12\, but all ages welcome. Children must be accompanied by an adult ticket holder. \n\n\n\nPre-booking essential. Please note that you will be redirected to Kielder Waterside’s ticket booking system. If you have any questions about Kielder Nature Rangers\, feel free to get in touch at info@wildintrigue.co.uk. \n\n\n\nBOOK NOW
URL:https://www.wildintrigue.co.uk/event/kielder-nature-rangers-13/
LOCATION:Tower Knowe\, Tower Knowe Visitor Centre\, Falstone\, Hexham\, NE48 1BX\, United Kingdom
CATEGORIES:Kielder,Kielder Nature Rangers
ATTACH;FMTTYPE=image/jpeg:https://www.wildintrigue.co.uk/wp-content/uploads/2023/05/Kielder-Nature-Rangers_Wild-Intrigue.jpg
END:VEVENT
BEGIN:VEVENT
DTSTART;TZID=Europe/London:20230826T153000
DTEND;TZID=Europe/London:20230826T163000
DTSTAMP:20260423T124251
CREATED:20230509T215602Z
LAST-MODIFIED:20230509T215603Z
UID:1560000549-1693063800-1693067400@www.wildintrigue.co.uk
SUMMARY:Kielder Nature Safari
DESCRIPTION:Nature discovery for all the family!\n\n\n\nKids (and their grown ups!) are invited to join Wild Intrigue to discover the wonderful wild side of Kielder. \n\n\n\nThe natural world is bursting with life in summer\, from birds and beasts to berries and bugs! Come along to Tower Knowe\, at Kielder Water and Forest Park\, for a mini walking safari to explore the sights\, sounds and smells of the season.  \n\n\n\nYoung Nature Rangers will learn expert tips on identifying birds from their songs\, how to find insects hidden from sight\, and many more intriguing ways to explore Kielder’s wonderful wildlife.  \n\n\n\nA certificate will be awarded to young Nature Rangers at the end! \n\n\n\nTICKETS Children £15 | Adults £5 \n\n\n\nMost suited to children aged 6 – 12\, but all ages welcome. Children must be accompanied by an adult ticket holder. \n\n\n\nPre-booking essential. Please note that you will be redirected to Kielder Waterside’s ticket booking system. If you have any questions about Kielder Nature Rangers\, feel free to get in touch at info@wildintrigue.co.uk. \n\n\n\nBOOK NOW
URL:https://www.wildintrigue.co.uk/event/kielder-nature-safari/
LOCATION:Tower Knowe\, Tower Knowe Visitor Centre\, Falstone\, Hexham\, NE48 1BX\, United Kingdom
CATEGORIES:Kielder,Kielder Nature Rangers
ATTACH;FMTTYPE=image/jpeg:https://www.wildintrigue.co.uk/wp-content/uploads/2023/05/Kielder-Nature-Rangers_Wild-Intrigue.jpg
END:VEVENT
BEGIN:VEVENT
DTSTART;TZID=Europe/London:20230823T153000
DTEND;TZID=Europe/London:20230823T163000
DTSTAMP:20260423T124251
CREATED:20230509T215249Z
LAST-MODIFIED:20230509T215251Z
UID:1560000548-1692804600-1692808200@www.wildintrigue.co.uk
SUMMARY:Kielder Nature Rangers
DESCRIPTION:Nature discovery for all the family!\n\n\n\nKids (and their grown ups!) are invited to join Wild Intrigue to discover the wonderful wild side of Kielder. \n\n\n\nThe natural world is bursting with life in summer\, from birds and beasts to berries and bugs! Come along to Tower Knowe\, at Kielder Water and Forest Park\, for a mini walking safari to explore the sights\, sounds and smells of the season.  \n\n\n\nYoung Nature Rangers will learn expert tips on identifying birds from their songs\, how to find insects hidden from sight\, and many more intriguing ways to explore Kielder’s wonderful wildlife.  \n\n\n\nA certificate will be awarded to young Nature Rangers at the end! \n\n\n\nTICKETS Children £15 | Adults £5 \n\n\n\nMost suited to children aged 6 – 12\, but all ages welcome. Children must be accompanied by an adult ticket holder. \n\n\n\nPre-booking essential. Please note that you will be redirected to Kielder Waterside’s ticket booking system. If you have any questions about Kielder Nature Rangers\, feel free to get in touch at info@wildintrigue.co.uk. \n\n\n\nBOOK NOW
URL:https://www.wildintrigue.co.uk/event/kielder-nature-rangers-12/
LOCATION:Tower Knowe\, Tower Knowe Visitor Centre\, Falstone\, Hexham\, NE48 1BX\, United Kingdom
CATEGORIES:Kielder,Kielder Nature Rangers
ATTACH;FMTTYPE=image/jpeg:https://www.wildintrigue.co.uk/wp-content/uploads/2023/05/Kielder-Nature-Rangers_Wild-Intrigue.jpg
END:VEVENT
BEGIN:VEVENT
DTSTART;TZID=Europe/London:20230819T153000
DTEND;TZID=Europe/London:20230819T163000
DTSTAMP:20260423T124251
CREATED:20230509T214903Z
LAST-MODIFIED:20230509T214906Z
UID:1560000547-1692459000-1692462600@www.wildintrigue.co.uk
SUMMARY:Kielder Nature Rangers
DESCRIPTION:Nature discovery for all the family!\n\n\n\nKids (and their grown ups!) are invited to join Wild Intrigue to discover the wonderful wild side of Kielder. \n\n\n\nThe natural world is bursting with life in summer\, from birds and beasts to berries and bugs! Come along to Tower Knowe\, at Kielder Water and Forest Park\, for a mini walking safari to explore the sights\, sounds and smells of the season.  \n\n\n\nYoung Nature Rangers will learn expert tips on identifying birds from their songs\, how to find insects hidden from sight\, and many more intriguing ways to explore Kielder’s wonderful wildlife.  \n\n\n\nA certificate will be awarded to young Nature Rangers at the end! \n\n\n\nTICKETS Children £15 | Adults £5 \n\n\n\nMost suited to children aged 6 – 12\, but all ages welcome. Children must be accompanied by an adult ticket holder. \n\n\n\nPre-booking essential. Please note that you will be redirected to Kielder Waterside’s ticket booking system. If you have any questions about Kielder Nature Rangers\, feel free to get in touch at info@wildintrigue.co.uk. \n\n\n\nBOOK NOW
URL:https://www.wildintrigue.co.uk/event/kielder-nature-rangers-11/
LOCATION:Tower Knowe\, Tower Knowe Visitor Centre\, Falstone\, Hexham\, NE48 1BX\, United Kingdom
CATEGORIES:Kielder,Kielder Nature Rangers
ATTACH;FMTTYPE=image/jpeg:https://www.wildintrigue.co.uk/wp-content/uploads/2023/05/Kielder-Nature-Rangers_Wild-Intrigue.jpg
END:VEVENT
BEGIN:VEVENT
DTSTART;TZID=Europe/London:20230816T153000
DTEND;TZID=Europe/London:20230816T163000
DTSTAMP:20260423T124251
CREATED:20230509T214532Z
LAST-MODIFIED:20230509T214533Z
UID:1560000546-1692199800-1692203400@www.wildintrigue.co.uk
SUMMARY:Kielder Nature Rangers
DESCRIPTION:Nature discovery for all the family!\n\n\n\nKids (and their grown ups!) are invited to join Wild Intrigue to discover the wonderful wild side of Kielder. \n\n\n\nThe natural world is bursting with life in summer\, from birds and beasts to berries and bugs! Come along to Tower Knowe\, at Kielder Water and Forest Park\, for a mini walking safari to explore the sights\, sounds and smells of the season.  \n\n\n\nYoung Nature Rangers will learn expert tips on identifying birds from their songs\, how to find insects hidden from sight\, and many more intriguing ways to explore Kielder’s wonderful wildlife.  \n\n\n\nA certificate will be awarded to young Nature Rangers at the end! \n\n\n\nTICKETS Children £15 | Adults £5 \n\n\n\nMost suited to children aged 6 – 12\, but all ages welcome. Children must be accompanied by an adult ticket holder. \n\n\n\nPre-booking essential. Please note that you will be redirected to Kielder Waterside’s ticket booking system. If you have any questions about Kielder Nature Rangers\, feel free to get in touch at info@wildintrigue.co.uk. \n\n\n\nBOOK NOW
URL:https://www.wildintrigue.co.uk/event/kielder-nature-rangers-10/
LOCATION:Tower Knowe\, Tower Knowe Visitor Centre\, Falstone\, Hexham\, NE48 1BX\, United Kingdom
CATEGORIES:Kielder,Kielder Nature Rangers
ATTACH;FMTTYPE=image/jpeg:https://www.wildintrigue.co.uk/wp-content/uploads/2023/05/Kielder-Nature-Rangers_Wild-Intrigue.jpg
END:VEVENT
BEGIN:VEVENT
DTSTART;TZID=Europe/London:20230812T153000
DTEND;TZID=Europe/London:20230812T163000
DTSTAMP:20260423T124251
CREATED:20230509T214230Z
LAST-MODIFIED:20230509T214232Z
UID:1560000545-1691854200-1691857800@www.wildintrigue.co.uk
SUMMARY:Kielder Nature Rangers
DESCRIPTION:Nature discovery for all the family!\n\n\n\nKids (and their grown ups!) are invited to join Wild Intrigue to discover the wonderful wild side of Kielder. \n\n\n\nThe natural world is bursting with life in summer\, from birds and beasts to berries and bugs! Come along to Tower Knowe\, at Kielder Water and Forest Park\, for a mini walking safari to explore the sights\, sounds and smells of the season.  \n\n\n\nYoung Nature Rangers will learn expert tips on identifying birds from their songs\, how to find insects hidden from sight\, and many more intriguing ways to explore Kielder’s wonderful wildlife.  \n\n\n\nA certificate will be awarded to young Nature Rangers at the end! \n\n\n\nTICKETS Children £15 | Adults £5 \n\n\n\nMost suited to children aged 6 – 12\, but all ages welcome. Children must be accompanied by an adult ticket holder. \n\n\n\nPre-booking essential. Please note that you will be redirected to Kielder Waterside’s ticket booking system. If you have any questions about Kielder Nature Rangers\, feel free to get in touch at info@wildintrigue.co.uk. \n\n\n\nBOOK NOW
URL:https://www.wildintrigue.co.uk/event/kielder-nature-rangers-9/
LOCATION:Tower Knowe\, Tower Knowe Visitor Centre\, Falstone\, Hexham\, NE48 1BX\, United Kingdom
CATEGORIES:Kielder,Kielder Nature Rangers
ATTACH;FMTTYPE=image/jpeg:https://www.wildintrigue.co.uk/wp-content/uploads/2023/05/Kielder-Nature-Rangers_Wild-Intrigue.jpg
END:VEVENT
BEGIN:VEVENT
DTSTART;TZID=Europe/London:20230809T153000
DTEND;TZID=Europe/London:20230809T163000
DTSTAMP:20260423T124251
CREATED:20230509T213849Z
LAST-MODIFIED:20230509T213937Z
UID:1560000544-1691595000-1691598600@www.wildintrigue.co.uk
SUMMARY:Kielder Nature Rangers
DESCRIPTION:Nature discovery for all the family!\n\n\n\nKids (and their grown ups!) are invited to join Wild Intrigue to discover the wonderful wild side of Kielder. \n\n\n\nThe natural world is bursting with life in summer\, from birds and beasts to berries and bugs! Come along to Tower Knowe\, at Kielder Water and Forest Park\, for a mini walking safari to explore the sights\, sounds and smells of the season.  \n\n\n\nYoung Nature Rangers will learn expert tips on identifying birds from their songs\, how to find insects hidden from sight\, and many more intriguing ways to explore Kielder’s wonderful wildlife.  \n\n\n\nA certificate will be awarded to young Nature Rangers at the end! \n\n\n\nTICKETS Children £15 | Adults £5 \n\n\n\nMost suited to children aged 6 – 12\, but all ages welcome. Children must be accompanied by an adult ticket holder. \n\n\n\nPre-booking essential. Please note that you will be redirected to Kielder Waterside’s ticket booking system. If you have any questions about Kielder Nature Rangers\, feel free to get in touch at info@wildintrigue.co.uk. \n\n\n\nBOOK NOW
URL:https://www.wildintrigue.co.uk/event/kielder-nature-rangers-8/
LOCATION:Tower Knowe\, Tower Knowe Visitor Centre\, Falstone\, Hexham\, NE48 1BX\, United Kingdom
CATEGORIES:Kielder,Kielder Nature Rangers
ATTACH;FMTTYPE=image/jpeg:https://www.wildintrigue.co.uk/wp-content/uploads/2023/05/Kielder-Nature-Rangers_Wild-Intrigue.jpg
END:VEVENT
BEGIN:VEVENT
DTSTART;TZID=Europe/London:20230805T153000
DTEND;TZID=Europe/London:20230805T163000
DTSTAMP:20260423T124251
CREATED:20230509T213544Z
LAST-MODIFIED:20230509T213546Z
UID:1560000543-1691249400-1691253000@www.wildintrigue.co.uk
SUMMARY:Kielder Nature Rangers
DESCRIPTION:Nature discovery for all the family!\n\n\n\nKids (and their grown ups!) are invited to join Wild Intrigue to discover the wonderful wild side of Kielder. \n\n\n\nThe natural world is bursting with life in summer\, from birds and beasts to berries and bugs! Come along to Tower Knowe\, at Kielder Water and Forest Park\, for a mini walking safari to explore the sights\, sounds and smells of the season.  \n\n\n\nYoung Nature Rangers will learn expert tips on identifying birds from their songs\, how to find insects hidden from sight\, and many more intriguing ways to explore Kielder’s wonderful wildlife.  \n\n\n\nA certificate will be awarded to young Nature Rangers at the end! \n\n\n\nTICKETS Children £15 | Adults £5 \n\n\n\nMost suited to children aged 6 – 12\, but all ages welcome. Children must be accompanied by an adult ticket holder. \n\n\n\nPre-booking essential. Please note that you will be redirected to Kielder Waterside’s ticket booking system. If you have any questions about Kielder Nature Rangers\, feel free to get in touch at info@wildintrigue.co.uk. \n\n\n\nBOOK NOW
URL:https://www.wildintrigue.co.uk/event/kielder-nature-rangers-7/
LOCATION:Tower Knowe\, Tower Knowe Visitor Centre\, Falstone\, Hexham\, NE48 1BX\, United Kingdom
CATEGORIES:Kielder,Kielder Nature Rangers
ATTACH;FMTTYPE=image/jpeg:https://www.wildintrigue.co.uk/wp-content/uploads/2023/05/Kielder-Nature-Rangers_Wild-Intrigue.jpg
END:VEVENT
BEGIN:VEVENT
DTSTART;TZID=Europe/London:20230802T153000
DTEND;TZID=Europe/London:20230802T163000
DTSTAMP:20260423T124251
CREATED:20230509T213159Z
LAST-MODIFIED:20230509T213201Z
UID:1560000542-1690990200-1690993800@www.wildintrigue.co.uk
SUMMARY:Kielder Nature Rangers
DESCRIPTION:Nature discovery for all the family!\n\n\n\nKids (and their grown ups!) are invited to join Wild Intrigue to discover the wonderful wild side of Kielder. \n\n\n\nThe natural world is bursting with life in summer\, from birds and beasts to berries and bugs! Come along to Tower Knowe\, at Kielder Water and Forest Park\, for a mini walking safari to explore the sights\, sounds and smells of the season.  \n\n\n\nYoung Nature Rangers will learn expert tips on identifying birds from their songs\, how to find insects hidden from sight\, and many more intriguing ways to explore Kielder’s wonderful wildlife.  \n\n\n\nA certificate will be awarded to young Nature Rangers at the end! \n\n\n\nTICKETS Children £15 | Adults £5 \n\n\n\nMost suited to children aged 6 – 12\, but all ages welcome. Children must be accompanied by an adult ticket holder. \n\n\n\nPre-booking essential. Please note that you will be redirected to Kielder Waterside’s ticket booking system. If you have any questions about Kielder Nature Rangers\, feel free to get in touch at info@wildintrigue.co.uk. \n\n\n\nBOOK NOW
URL:https://www.wildintrigue.co.uk/event/kielder-nature-rangers-6/
LOCATION:Tower Knowe\, Tower Knowe Visitor Centre\, Falstone\, Hexham\, NE48 1BX\, United Kingdom
CATEGORIES:Kielder,Kielder Nature Rangers
ATTACH;FMTTYPE=image/jpeg:https://www.wildintrigue.co.uk/wp-content/uploads/2023/05/Kielder-Nature-Rangers_Wild-Intrigue.jpg
END:VEVENT
BEGIN:VEVENT
DTSTART;TZID=Europe/London:20230730T153000
DTEND;TZID=Europe/London:20230730T163000
DTSTAMP:20260423T124251
CREATED:20230509T212308Z
LAST-MODIFIED:20230729T081450Z
UID:1560000541-1690731000-1690734600@www.wildintrigue.co.uk
SUMMARY:Kielder Nature Rangers
DESCRIPTION:Nature discovery for all the family!\n\n\n\nKids (and their grown ups!) are invited to join Wild Intrigue to discover the wonderful wild side of Kielder. \n\n\n\nThe natural world is bursting with life in summer\, from birds and beasts to berries and bugs! Come along to Tower Knowe\, at Kielder Water and Forest Park\, for a mini walking safari to explore the sights\, sounds and smells of the season.  \n\n\n\nYoung Nature Rangers will learn expert tips on identifying birds from their songs\, how to find insects hidden from sight\, and many more intriguing ways to explore Kielder’s wonderful wildlife.  \n\n\n\nA certificate will be awarded to young Nature Rangers at the end! \n\n\n\nTICKETS Children £15 | Adults £5 \n\n\n\nMost suited to children aged 6 – 12\, but all ages welcome. Children must be accompanied by an adult ticket holder. \n\n\n\nPre-booking essential. Please note that you will be redirected to Kielder Waterside’s ticket booking system. If you have any questions about Kielder Nature Rangers\, feel free to get in touch at info@wildintrigue.co.uk. \n\n\n\nBOOK NOW
URL:https://www.wildintrigue.co.uk/event/kielder-nature-rangers-4/
LOCATION:Tower Knowe\, Tower Knowe Visitor Centre\, Falstone\, Hexham\, NE48 1BX\, United Kingdom
CATEGORIES:Kielder,Kielder Nature Rangers
ATTACH;FMTTYPE=image/jpeg:https://www.wildintrigue.co.uk/wp-content/uploads/2023/05/Kielder-Nature-Rangers_Wild-Intrigue.jpg
END:VEVENT
BEGIN:VEVENT
DTSTART;TZID=Europe/London:20230726T153000
DTEND;TZID=Europe/London:20230726T163000
DTSTAMP:20260423T124251
CREATED:20230509T211855Z
LAST-MODIFIED:20230509T211949Z
UID:1560000540-1690385400-1690389000@www.wildintrigue.co.uk
SUMMARY:Kielder Nature Rangers
DESCRIPTION:Nature discovery for all the family!\n\n\n\nKids (and their grown ups!) are invited to join Wild Intrigue to discover the wonderful wild side of Kielder. \n\n\n\nThe natural world is bursting with life in summer\, from birds and beasts to berries and bugs! Come along to Tower Knowe\, at Kielder Water and Forest Park\, for a mini walking safari to explore the sights\, sounds and smells of the season.  \n\n\n\nYoung Nature Rangers will learn expert tips on identifying birds from their songs\, how to find insects hidden from sight\, and many more intriguing ways to explore Kielder’s wonderful wildlife.  \n\n\n\nA certificate will be awarded to young Nature Rangers at the end! \n\n\n\nTICKETS Children £15 | Adults £5 \n\n\n\nMost suited to children aged 6 – 12\, but all ages welcome. Children must be accompanied by an adult ticket holder. \n\n\n\nPre-booking essential. Please note that you will be redirected to Kielder Waterside’s ticket booking system. If you have any questions about Kielder Nature Rangers\, feel free to get in touch at info@wildintrigue.co.uk. \n\n\n\nBOOK NOW
URL:https://www.wildintrigue.co.uk/event/kielder-nature-rangers-3/
LOCATION:Tower Knowe\, Tower Knowe Visitor Centre\, Falstone\, Hexham\, NE48 1BX\, United Kingdom
CATEGORIES:Kielder,Kielder Nature Rangers
ATTACH;FMTTYPE=image/jpeg:https://www.wildintrigue.co.uk/wp-content/uploads/2023/05/Kielder-Nature-Rangers_Wild-Intrigue.jpg
END:VEVENT
BEGIN:VEVENT
DTSTART;TZID=Europe/London:20230603T153000
DTEND;TZID=Europe/London:20230603T163000
DTSTAMP:20260423T124251
CREATED:20230509T210558Z
LAST-MODIFIED:20230509T210559Z
UID:1560000539-1685806200-1685809800@www.wildintrigue.co.uk
SUMMARY:Kielder Nature Rangers
DESCRIPTION:Nature discovery for all the family!\n\n\n\nKids (and their grown ups!) are invited to join Wild Intrigue to discover the wonderful wild side of Kielder. \n\n\n\nThe natural world is bursting with life in summer\, from birds and beasts to berries and bugs! Come along to Tower Knowe\, at Kielder Water and Forest Park\, for a mini walking safari to explore the sights\, sounds and smells of the season.  \n\n\n\nYoung Nature Rangers will learn expert tips on identifying birds from their songs\, how to find insects hidden from sight\, and many more intriguing ways to explore Kielder’s wonderful wildlife.  \n\n\n\nA certificate will be awarded to young Nature Rangers at the end! \n\n\n\nTICKETS Children £15 | Adults £5 \n\n\n\nMost suited to children aged 6 – 12\, but all ages welcome. Children must be accompanied by an adult ticket holder. \n\n\n\nPre-booking essential. Please note that you will be redirected to Kielder Waterside’s ticket booking system. If you have any questions about Kielder Nature Rangers\, feel free to get in touch at info@wildintrigue.co.uk. \n\n\n\n \n\nBOOK NOW
URL:https://www.wildintrigue.co.uk/event/kielder-nature-rangers-2/
LOCATION:Tower Knowe\, Tower Knowe Visitor Centre\, Falstone\, Hexham\, NE48 1BX\, United Kingdom
CATEGORIES:Kielder,Kielder Nature Rangers
ATTACH;FMTTYPE=image/jpeg:https://www.wildintrigue.co.uk/wp-content/uploads/2023/05/Kielder-Nature-Rangers_Wild-Intrigue.jpg
END:VEVENT
BEGIN:VEVENT
DTSTART;TZID=Europe/London:20230531T153000
DTEND;TZID=Europe/London:20230531T163000
DTSTAMP:20260423T124251
CREATED:20230509T204753Z
LAST-MODIFIED:20230509T205606Z
UID:1560000538-1685547000-1685550600@www.wildintrigue.co.uk
SUMMARY:Kielder Nature Rangers
DESCRIPTION:Nature discovery for all the family!\n\n\n\nKids (and their grown ups!) are invited to join Wild Intrigue to discover the wonderful wild side of Kielder. \n\n\n\nThe natural world is bursting with life in summer\, from birds and beasts to berries and bugs! Come along to Tower Knowe\, at Kielder Water and Forest Park\, for a mini walking safari to explore the sights\, sounds and smells of the season.  \n\n\n\nYoung Nature Rangers will learn expert tips on identifying birds from their songs\, how to find insects hidden from sight\, and many more intriguing ways to explore Kielder’s wonderful wildlife.  \n\n\n\nA certificate will be awarded to young Nature Rangers at the end! \n\n\n\nTICKETS Children £15 | Adults £5 \n\n\n\nMost suited to children aged 6 – 12\, but all ages welcome. Children must be accompanied by an adult ticket holder. \n\n\n\nPre-booking essential. Please note that you will be redirected to Kielder Waterside’s ticket booking system. If you have any questions about Kielder Nature Rangers\, feel free to get in touch at info@wildintrigue.co.uk. \n\n\n\nBOOK NOW
URL:https://www.wildintrigue.co.uk/event/kielder-nature-rangers/
LOCATION:Tower Knowe\, Tower Knowe Visitor Centre\, Falstone\, Hexham\, NE48 1BX\, United Kingdom
CATEGORIES:Kielder,Kielder Nature Rangers
ATTACH;FMTTYPE=image/jpeg:https://www.wildintrigue.co.uk/wp-content/uploads/2023/05/Kielder-Nature-Rangers_Wild-Intrigue.jpg
END:VEVENT
END:VCALENDAR