BEGIN:VCALENDAR
VERSION:2.0
PRODID:-//Wild Intrigue - ECPv6.15.13.1//NONSGML v1.0//EN
CALSCALE:GREGORIAN
METHOD:PUBLISH
X-ORIGINAL-URL:https://www.wildintrigue.co.uk
X-WR-CALDESC:Events for Wild Intrigue
REFRESH-INTERVAL;VALUE=DURATION:PT1H
X-Robots-Tag:noindex
X-PUBLISHED-TTL:PT1H
BEGIN:VTIMEZONE
TZID:Europe/London
BEGIN:DAYLIGHT
TZOFFSETFROM:+0000
TZOFFSETTO:+0100
TZNAME:BST
DTSTART:20250330T010000
END:DAYLIGHT
BEGIN:STANDARD
TZOFFSETFROM:+0100
TZOFFSETTO:+0000
TZNAME:GMT
DTSTART:20251026T010000
END:STANDARD
BEGIN:DAYLIGHT
TZOFFSETFROM:+0000
TZOFFSETTO:+0100
TZNAME:BST
DTSTART:20260329T010000
END:DAYLIGHT
BEGIN:STANDARD
TZOFFSETFROM:+0100
TZOFFSETTO:+0000
TZNAME:GMT
DTSTART:20261025T010000
END:STANDARD
BEGIN:DAYLIGHT
TZOFFSETFROM:+0000
TZOFFSETTO:+0100
TZNAME:BST
DTSTART:20270328T010000
END:DAYLIGHT
BEGIN:STANDARD
TZOFFSETFROM:+0100
TZOFFSETTO:+0000
TZNAME:GMT
DTSTART:20271031T010000
END:STANDARD
END:VTIMEZONE
BEGIN:VEVENT
DTSTART;TZID=Europe/London:20260804T190000
DTEND;TZID=Europe/London:20260804T213000
DTSTAMP:20260424T165352
CREATED:20251123T170730Z
LAST-MODIFIED:20251123T171254Z
UID:1560001296-1785870000-1785879000@www.wildintrigue.co.uk
SUMMARY:Family Bats & Pizza Night
DESCRIPTION:A fun\, family night out to enjoy al fresco food and nature!\n\n\n\nRewild your week on a Wild Intrigue Family Bats & Pizza Night\, hosted at the tranquil\, rural glamping site Wild Northumbrian. This beautiful spot is set in the heart of Northumberland National Park on the edge of Kielder Forest\, beneath the enchanting celestial blanket of the Northumberland International Dark Sky Park. \n\n\n\nUpon arriving at the Swallow Hut you will be greeted by your Wild Intrigue guides\, who will escort you to your al fresco dining table for the night. Once you’ve grabbed your first bottomless hot or cold drink of the night\, the fun begins as Wild Intrigue guide you into making your own stone-baked pizza\, with delicious dough. Which toppings will you choose? \n\n\n\nPlates emptied\, you’ll set off on a mini adventure to explore the beautiful Wild Northumbrian meadow\, to discover creatures emerging as the sun begins to set. Perhaps you’ll hear Tawny Owls calling\, Roe Deer barking\, or the Blackbird’s bedtime melody. \n\n\n\nA cosy campfire will be waiting back at the Swallow Hut ready to toast marshmallows to enjoy with a hot chocolate. As the sun dips below the horizon\, you’ll finally embark on a Bat Safari to track down bats emerging from their roosts. With bat detectors in hand you’ll be able to eavesdrop on these elusive creatures of the night\, picking up their echolocation on route. Through fascinating facts and some (unashamedly) enthusiastic impressions from your Wild Intrigue guides\, you’ll discover all kinds of intriguing insights into these magnificent mammals. \n\n\n\nOur Family Bats & Pizza Nights are specially tailored toward families with young wild things. Adult groups (or families with children aged 14+ at parent’s discretion) should book onto Bats & Pizza Nights to enjoy a chilled\, wild night out. \n\n\n\n\n\nPlease note that we can only welcome adult-only groups onto our “Bats & Pizza Nights” experiences and not “Family Nights”. Our Family Nights receive a lot of demand due to little ones hoping to return\, so we want to prevent disappointment. \n\n\n\nThere are heaps of wild encounters to enjoy in northern England\, explore our full collection here.
URL:https://www.wildintrigue.co.uk/event/family-bats-pizza-night-20/
LOCATION:Wild Northumbrian\, Thorneyburn Old Rectory\, Hexham\, Northumberland\, NE48 1NA\, United Kingdom
CATEGORIES:Bats & Pizza Nights,Family Bats & Pizza Nights,Wild Northumbrian
ATTACH;FMTTYPE=image/jpeg:https://www.wildintrigue.co.uk/wp-content/uploads/2025/11/Pizza_web.jpg
END:VEVENT
BEGIN:VEVENT
DTSTART;TZID=Europe/London:20260805T190000
DTEND;TZID=Europe/London:20260805T213000
DTSTAMP:20260424T165352
CREATED:20251123T171545Z
LAST-MODIFIED:20251123T171547Z
UID:1560001297-1785956400-1785965400@www.wildintrigue.co.uk
SUMMARY:Family Bats & Pizza Night
DESCRIPTION:A fun\, family night out to enjoy al fresco food and nature!\n\n\n\nRewild your week on a Wild Intrigue Family Bats & Pizza Night\, hosted at the tranquil\, rural glamping site Wild Northumbrian. This beautiful spot is set in the heart of Northumberland National Park on the edge of Kielder Forest\, beneath the enchanting celestial blanket of the Northumberland International Dark Sky Park. \n\n\n\nUpon arriving at the Swallow Hut you will be greeted by your Wild Intrigue guides\, who will escort you to your al fresco dining table for the night. Once you’ve grabbed your first bottomless hot or cold drink of the night\, the fun begins as Wild Intrigue guide you into making your own stone-baked pizza\, with delicious dough. Which toppings will you choose? \n\n\n\nPlates emptied\, you’ll set off on a mini adventure to explore the beautiful Wild Northumbrian meadow\, to discover creatures emerging as the sun begins to set. Perhaps you’ll hear Tawny Owls calling\, Roe Deer barking\, or the Blackbird’s bedtime melody. \n\n\n\nA cosy campfire will be waiting back at the Swallow Hut ready to toast marshmallows to enjoy with a hot chocolate. As the sun dips below the horizon\, you’ll finally embark on a Bat Safari to track down bats emerging from their roosts. With bat detectors in hand you’ll be able to eavesdrop on these elusive creatures of the night\, picking up their echolocation on route. Through fascinating facts and some (unashamedly) enthusiastic impressions from your Wild Intrigue guides\, you’ll discover all kinds of intriguing insights into these magnificent mammals. \n\n\n\nOur Family Bats & Pizza Nights are specially tailored toward families with young wild things. Adult groups (or families with children aged 14+ at parent’s discretion) should book onto Bats & Pizza Nights to enjoy a chilled\, wild night out. \n\n\n\n\n\nPlease note that we can only welcome adult-only groups onto our “Bats & Pizza Nights” experiences and not “Family Nights”. Our Family Nights receive a lot of demand due to little ones hoping to return\, so we want to prevent disappointment. \n\n\n\nThere are heaps of wild encounters to enjoy in northern England\, explore our full collection here.
URL:https://www.wildintrigue.co.uk/event/family-bats-pizza-night-21/
LOCATION:Wild Northumbrian\, Thorneyburn Old Rectory\, Hexham\, Northumberland\, NE48 1NA\, United Kingdom
CATEGORIES:Bats & Pizza Nights,Family Bats & Pizza Nights,Wild Northumbrian
ATTACH;FMTTYPE=image/jpeg:https://www.wildintrigue.co.uk/wp-content/uploads/2025/11/Pizza_web.jpg
END:VEVENT
BEGIN:VEVENT
DTSTART;TZID=Europe/London:20260806T190000
DTEND;TZID=Europe/London:20260806T213000
DTSTAMP:20260424T165352
CREATED:20251123T174222Z
LAST-MODIFIED:20251123T174245Z
UID:1560001302-1786042800-1786051800@www.wildintrigue.co.uk
SUMMARY:Bats & Pizza Night
DESCRIPTION:A relaxed night of al fresco food and wildlife under the setting sun\n\nRewild your week on a Wild Intrigue Bats & Pizza Night\, hosted at the tranquil\, rural glamping site Wild Northumbrian. This beautiful spot is set in the heart of Northumberland National Park on the edge of Kielder Forest\, beneath the enchanting celestial blanket of the Northumberland International Dark Sky Park. \n\n\n\nUpon arriving at the Swallow Hut you will be greeted by your Wild Intrigue guides\, who will escort you to your al fresco dining table for the night. Once you’ve grabbed your first bottomless hot or cold drink of the night\, the fun begins as Wild Intrigue guide you into making your own stone-baked pizza\, with delicious dough. Which toppings will you choose? \n\n\n\nPlates emptied\, you’ll set off to explore the beautiful Wild Northumbrian meadow to discover creaturesemerging as the sun begins to set. Perhaps you’ll hear Tawny Owls calling\, Roe Deer barking\, or the Blackbird’s bedtime melody. \n\n\n\nA cosy campfire will be waiting back at the Swallow Hut ready to toast marshmallows to enjoy with a hot chocolate. As the sun dips below the horizon\, you’ll finally embark on a Bat Safari to track down bats emerging from their roosts. With bat detectors in hand you’ll be able to eavesdrop on these elusive creatures of the night\, picking up their echolocation on route. Through fascinating facts and some (unashamedly) enthusiastic impressions from your Wild Intrigue guides\, you’ll discover all kinds of intriguing insights into these magnificent mammals. \n\n\n\nOur Bats & Pizza Nights are relaxed evenings tailored toward adults. Families with children aged 14+ may wish to attend\, at parent’s discretion – please feel welcome to get in touch if you have questions about this. \n\n\n\nIf you’re a family with younger children\, please book onto our Family Bats & Pizza Nights\, which have been specially created for you and your young wild things! \n\n\n\nThere are heaps of wild encounters to enjoy in northern England\, explore our full collection here.
URL:https://www.wildintrigue.co.uk/event/bats-pizza-night-10/
LOCATION:Wild Northumbrian\, Thorneyburn Old Rectory\, Hexham\, Northumberland\, NE48 1NA\, United Kingdom
CATEGORIES:Bats & Pizza Nights,Family Bats & Pizza Nights,Wild Northumbrian
ATTACH;FMTTYPE=image/jpeg:https://www.wildintrigue.co.uk/wp-content/uploads/2025/11/Pizza_fire_adult_web.jpg
END:VEVENT
BEGIN:VEVENT
DTSTART;TZID=Europe/London:20260811T185000
DTEND;TZID=Europe/London:20260811T212000
DTSTAMP:20260424T165352
CREATED:20251123T173922Z
LAST-MODIFIED:20251123T174019Z
UID:1560001301-1786474200-1786483200@www.wildintrigue.co.uk
SUMMARY:Bats & Pizza Night
DESCRIPTION:A relaxed night of al fresco food and wildlife under the setting sun\n\n\n\nRewild your week on a Wild Intrigue Bats & Pizza Night\, hosted at the tranquil\, rural glamping site Wild Northumbrian. This beautiful spot is set in the heart of Northumberland National Park on the edge of Kielder Forest\, beneath the enchanting celestial blanket of the Northumberland International Dark Sky Park. \n\n\n\nUpon arriving at the Swallow Hut you will be greeted by your Wild Intrigue guides\, who will escort you to your al fresco dining table for the night. Once you’ve grabbed your first bottomless hot or cold drink of the night\, the fun begins as Wild Intrigue guide you into making your own stone-baked pizza\, with delicious dough. Which toppings will you choose? \n\n\n\nPlates emptied\, you’ll set off to explore the beautiful Wild Northumbrian meadow to discover creaturesemerging as the sun begins to set. Perhaps you’ll hear Tawny Owls calling\, Roe Deer barking\, or the Blackbird’s bedtime melody. \n\n\n\nA cosy campfire will be waiting back at the Swallow Hut ready to toast marshmallows to enjoy with a hot chocolate. As the sun dips below the horizon\, you’ll finally embark on a Bat Safari to track down bats emerging from their roosts. With bat detectors in hand you’ll be able to eavesdrop on these elusive creatures of the night\, picking up their echolocation on route. Through fascinating facts and some (unashamedly) enthusiastic impressions from your Wild Intrigue guides\, you’ll discover all kinds of intriguing insights into these magnificent mammals. \n\n\n\nOur Bats & Pizza Nights are relaxed evenings tailored toward adults. Families with children aged 14+ may wish to attend\, at parent’s discretion – please feel welcome to get in touch if you have questions about this. \n\n\n\nIf you’re a family with younger children\, please book onto our Family Bats & Pizza Nights\, which have been specially created for you and your young wild things! \n\n\n\nThere are heaps of wild encounters to enjoy in northern England\, explore our full collection here.
URL:https://www.wildintrigue.co.uk/event/bats-pizza-night-9/
LOCATION:Wild Northumbrian\, Thorneyburn Old Rectory\, Hexham\, Northumberland\, NE48 1NA\, United Kingdom
CATEGORIES:Bats & Pizza Nights,Family Bats & Pizza Nights,Wild Northumbrian
ATTACH;FMTTYPE=image/jpeg:https://www.wildintrigue.co.uk/wp-content/uploads/2025/11/Pizza_fire_adult_web.jpg
END:VEVENT
BEGIN:VEVENT
DTSTART;TZID=Europe/London:20260812T185000
DTEND;TZID=Europe/London:20260812T212000
DTSTAMP:20260424T165352
CREATED:20251123T171731Z
LAST-MODIFIED:20251123T171732Z
UID:1560001298-1786560600-1786569600@www.wildintrigue.co.uk
SUMMARY:Family Bats & Pizza Night
DESCRIPTION:A fun\, family night out to enjoy al fresco food and nature!\n\n\n\nRewild your week on a Wild Intrigue Family Bats & Pizza Night\, hosted at the tranquil\, rural glamping site Wild Northumbrian. This beautiful spot is set in the heart of Northumberland National Park on the edge of Kielder Forest\, beneath the enchanting celestial blanket of the Northumberland International Dark Sky Park. \n\n\n\nUpon arriving at the Swallow Hut you will be greeted by your Wild Intrigue guides\, who will escort you to your al fresco dining table for the night. Once you’ve grabbed your first bottomless hot or cold drink of the night\, the fun begins as Wild Intrigue guide you into making your own stone-baked pizza\, with delicious dough. Which toppings will you choose? \n\n\n\nPlates emptied\, you’ll set off on a mini adventure to explore the beautiful Wild Northumbrian meadow\, to discover creatures emerging as the sun begins to set. Perhaps you’ll hear Tawny Owls calling\, Roe Deer barking\, or the Blackbird’s bedtime melody. \n\n\n\nA cosy campfire will be waiting back at the Swallow Hut ready to toast marshmallows to enjoy with a hot chocolate. As the sun dips below the horizon\, you’ll finally embark on a Bat Safari to track down bats emerging from their roosts. With bat detectors in hand you’ll be able to eavesdrop on these elusive creatures of the night\, picking up their echolocation on route. Through fascinating facts and some (unashamedly) enthusiastic impressions from your Wild Intrigue guides\, you’ll discover all kinds of intriguing insights into these magnificent mammals. \n\n\n\nOur Family Bats & Pizza Nights are specially tailored toward families with young wild things. Adult groups (or families with children aged 14+ at parent’s discretion) should book onto Bats & Pizza Nights to enjoy a chilled\, wild night out. \n\n\n\n\n\nPlease note that we can only welcome adult-only groups onto our “Bats & Pizza Nights” experiences and not “Family Nights”. Our Family Nights receive a lot of demand due to little ones hoping to return\, so we want to prevent disappointment. \n\n\n\nThere are heaps of wild encounters to enjoy in northern England\, explore our full collection here.
URL:https://www.wildintrigue.co.uk/event/family-bats-pizza-night-22/
LOCATION:Wild Northumbrian\, Thorneyburn Old Rectory\, Hexham\, Northumberland\, NE48 1NA\, United Kingdom
CATEGORIES:Bats & Pizza Nights,Family Bats & Pizza Nights,Wild Northumbrian
ATTACH;FMTTYPE=image/jpeg:https://www.wildintrigue.co.uk/wp-content/uploads/2025/11/Pizza_web.jpg
END:VEVENT
BEGIN:VEVENT
DTSTART;TZID=Europe/London:20260813T184500
DTEND;TZID=Europe/London:20260813T211500
DTSTAMP:20260424T165352
CREATED:20251123T171949Z
LAST-MODIFIED:20251123T171951Z
UID:1560001299-1786646700-1786655700@www.wildintrigue.co.uk
SUMMARY:Family Bats & Pizza Night
DESCRIPTION:A fun\, family night out to enjoy al fresco food and nature!\n\n\n\nRewild your week on a Wild Intrigue Family Bats & Pizza Night\, hosted at the tranquil\, rural glamping site Wild Northumbrian. This beautiful spot is set in the heart of Northumberland National Park on the edge of Kielder Forest\, beneath the enchanting celestial blanket of the Northumberland International Dark Sky Park. \n\n\n\nUpon arriving at the Swallow Hut you will be greeted by your Wild Intrigue guides\, who will escort you to your al fresco dining table for the night. Once you’ve grabbed your first bottomless hot or cold drink of the night\, the fun begins as Wild Intrigue guide you into making your own stone-baked pizza\, with delicious dough. Which toppings will you choose? \n\n\n\nPlates emptied\, you’ll set off on a mini adventure to explore the beautiful Wild Northumbrian meadow\, to discover creatures emerging as the sun begins to set. Perhaps you’ll hear Tawny Owls calling\, Roe Deer barking\, or the Blackbird’s bedtime melody. \n\n\n\nA cosy campfire will be waiting back at the Swallow Hut ready to toast marshmallows to enjoy with a hot chocolate. As the sun dips below the horizon\, you’ll finally embark on a Bat Safari to track down bats emerging from their roosts. With bat detectors in hand you’ll be able to eavesdrop on these elusive creatures of the night\, picking up their echolocation on route. Through fascinating facts and some (unashamedly) enthusiastic impressions from your Wild Intrigue guides\, you’ll discover all kinds of intriguing insights into these magnificent mammals. \n\n\n\nOur Family Bats & Pizza Nights are specially tailored toward families with young wild things. Adult groups (or families with children aged 14+ at parent’s discretion) should book onto Bats & Pizza Nights to enjoy a chilled\, wild night out. \n\n\n\n\n\nPlease note that we can only welcome adult-only groups onto our “Bats & Pizza Nights” experiences and not “Family Nights”. Our Family Nights receive a lot of demand due to little ones hoping to return\, so we want to prevent disappointment. \n\n\n\nThere are heaps of wild encounters to enjoy in northern England\, explore our full collection here.
URL:https://www.wildintrigue.co.uk/event/family-bats-pizza-night-23/
LOCATION:Wild Northumbrian\, Thorneyburn Old Rectory\, Hexham\, Northumberland\, NE48 1NA\, United Kingdom
CATEGORIES:Bats & Pizza Nights,Family Bats & Pizza Nights,Wild Northumbrian
ATTACH;FMTTYPE=image/jpeg:https://www.wildintrigue.co.uk/wp-content/uploads/2025/11/Pizza_web.jpg
END:VEVENT
END:VCALENDAR